BEGIN:VCALENDAR
VERSION:2.0
PRODID:-//ActiMaris - ECPv6.15.17.1//NONSGML v1.0//EN
CALSCALE:GREGORIAN
METHOD:PUBLISH
X-WR-CALNAME:ActiMaris
X-ORIGINAL-URL:https://www.actimaris.com
X-WR-CALDESC:Veranstaltungen für ActiMaris
REFRESH-INTERVAL;VALUE=DURATION:PT1H
X-Robots-Tag:noindex
X-PUBLISHED-TTL:PT1H
BEGIN:VTIMEZONE
TZID:Europe/Zurich
BEGIN:DAYLIGHT
TZOFFSETFROM:+0100
TZOFFSETTO:+0200
TZNAME:CEST
DTSTART:20190331T010000
END:DAYLIGHT
BEGIN:STANDARD
TZOFFSETFROM:+0200
TZOFFSETTO:+0100
TZNAME:CET
DTSTART:20191027T010000
END:STANDARD
BEGIN:DAYLIGHT
TZOFFSETFROM:+0100
TZOFFSETTO:+0200
TZNAME:CEST
DTSTART:20200329T010000
END:DAYLIGHT
BEGIN:STANDARD
TZOFFSETFROM:+0200
TZOFFSETTO:+0100
TZNAME:CET
DTSTART:20201025T010000
END:STANDARD
BEGIN:DAYLIGHT
TZOFFSETFROM:+0100
TZOFFSETTO:+0200
TZNAME:CEST
DTSTART:20210328T010000
END:DAYLIGHT
BEGIN:STANDARD
TZOFFSETFROM:+0200
TZOFFSETTO:+0100
TZNAME:CET
DTSTART:20211031T010000
END:STANDARD
BEGIN:DAYLIGHT
TZOFFSETFROM:+0100
TZOFFSETTO:+0200
TZNAME:CEST
DTSTART:20220327T010000
END:DAYLIGHT
BEGIN:STANDARD
TZOFFSETFROM:+0200
TZOFFSETTO:+0100
TZNAME:CET
DTSTART:20221030T010000
END:STANDARD
BEGIN:DAYLIGHT
TZOFFSETFROM:+0100
TZOFFSETTO:+0200
TZNAME:CEST
DTSTART:20230326T010000
END:DAYLIGHT
BEGIN:STANDARD
TZOFFSETFROM:+0200
TZOFFSETTO:+0100
TZNAME:CET
DTSTART:20231029T010000
END:STANDARD
BEGIN:DAYLIGHT
TZOFFSETFROM:+0100
TZOFFSETTO:+0200
TZNAME:CEST
DTSTART:20240331T010000
END:DAYLIGHT
BEGIN:STANDARD
TZOFFSETFROM:+0200
TZOFFSETTO:+0100
TZNAME:CET
DTSTART:20241027T010000
END:STANDARD
BEGIN:DAYLIGHT
TZOFFSETFROM:+0100
TZOFFSETTO:+0200
TZNAME:CEST
DTSTART:20250330T010000
END:DAYLIGHT
BEGIN:STANDARD
TZOFFSETFROM:+0200
TZOFFSETTO:+0100
TZNAME:CET
DTSTART:20251026T010000
END:STANDARD
BEGIN:DAYLIGHT
TZOFFSETFROM:+0100
TZOFFSETTO:+0200
TZNAME:CEST
DTSTART:20260329T010000
END:DAYLIGHT
BEGIN:STANDARD
TZOFFSETFROM:+0200
TZOFFSETTO:+0100
TZNAME:CET
DTSTART:20261025T010000
END:STANDARD
END:VTIMEZONE
BEGIN:VEVENT
DTSTART;VALUE=DATE:20250410
DTEND;VALUE=DATE:20250412
DTSTAMP:20260423T180404
CREATED:20250228T112453Z
LAST-MODIFIED:20250228T112453Z
UID:11478-1744243200-1744415999@www.actimaris.com
SUMMARY:16th Abu Dhabi Wound Care conference 2025
DESCRIPTION:ActiMaris® at the 16th Abu Dhabi Wound Care Conference 2025 – Scientific Presentation on Wound Treatment\nNew Insights into the Correlation Between In-Vitro and In-Vivo Efficacy of Antimicrobial Wound Therapies\nConference Highlights:\n\nKeynote lectures by international wound care experts\nLatest research in wound management and antimicrobial therapies\nPresentation of cutting-edge innovations in wound care\nNetworking opportunities with industry leaders\n\nProgram\nMore informationDOES THE IN VITRO EFFICACY PROMISE CORRELATE WITH THE IN VIVO REALITY AND CLINICAL EFFECTIVENESS IN THE LOCAL WOUND TREATMENT WITH ANTIMICROBIALS?\nOur Presentation:\nActiMaris AG will present groundbreaking research on the effectiveness of the HOCl/NaOCl Redox Complex compared to other antimicrobial wound products. The study explores whether in-vitro antimicrobial efficacy truly translates into clinical performance in wound treatment. \n\n\n    \n        \n\n    \n\nAutor: Damir Marincic MD\, Quorum Medis Institute\, St.Gallen\, SWITZERLAND \nAim:\nEffective wound care products should demonstrate strong antimicrobial effects\, biofilm disruption\, anti-inflammatory action\, and low cytotoxicity\, often assessed via a biocompatibility index in vitro. However\, in vitro tests approximate clinical conditions and may not reflect clinical outcomes. This study examines the correlation between in vitro efficacy and in vivo effectiveness across various antimicrobials. \nMethod:\nFour in vitro studies were conducted on 15 antimicrobials (4 PHMB\, 1 Octenidine\, 1 PVP-I\, and 9 HOCl/NaOCl products)\, including HOCl/NaOCl redox complex*. Concentrations and physicochemical properties varied among the tested products. In vivo\, two clinical studies involving over 400 patients evaluated eight products (2 PHMB\, 1 Octenidine\, and 5 HOCl/NaOCl) for their antimicrobial efficacy directly in wounds. \nResults / Discussion:\nIn vitro\, HOCl/NaOCl products showed varied efficacy\, dependent on concentration and physicochemical parameters. Products with 100–300 ppm demonstrated limited efficacy (log10 reduction of 1.5–3.0)\, whereas those with 400–800 ppm exhibited stronger efficacy (up to 5 log10) but with a slower onset (≥10 minutes). The HOCl/NaOCl redox complex* at 2000 ppm showed the highest efficacy of 6.2–7.2 log10 with a rapid onset (<1 minute)\, in vivo 3.4 log10 level. Other products with 100–800 ppm had lower antimicrobial efficacy (≤2.0 log10)\, comparable to polyhexanide product. \nConclusion:\nMost products failed to translate in vitro antimicrobial results into in vivo performance. Efficacy depends not only on active substance concentration but also on specific physicochemical and colligative properties. The HOCl/NaOCl redox complex* consistently demonstrated superior efficacy both in vitro and in clinical settings\, maintaining its promise in practical use. \n*ActiMaris complex
URL:https://www.actimaris.com/event/16th-abu-dhabi-wound-care-conference-2025-2/
ATTACH;FMTTYPE=image/jpeg:https://www.actimaris.com/wp-content/uploads/2025/02/NEW-16th-Abu-Dhabi-Wound-Care-Conference.jpg
END:VEVENT
BEGIN:VEVENT
DTSTART;TZID=Europe/Zurich:20230510T080000
DTEND;TZID=Europe/Zurich:20230512T170000
DTSTAMP:20260423T180404
CREATED:20230322T082149Z
LAST-MODIFIED:20230322T083952Z
UID:11083-1683705600-1683910800@www.actimaris.com
SUMMARY:DEWU Deutscher Wundkongress & Bremer Pflegekongress 2023
DESCRIPTION:ActiMaris® an Deutscher Wundkongress & Bremer Pflegekongress 2023\nDas größte deutsche Forum zum Thema Chronische Wunden.\nradio_button_uncheckedActiMaris AG freut sich\, Ihnen mitteilen zu können\, dass wir gemeinsam mit unserem geschätzten Partner Chemomedica Medizintechnik und Arzneimittel Vertriebsges.m.b.H. am renommierten DEWU Deutscher Wundkongress 2023 in Bremen teilnehmen werden. Der Kongress\, der vom 10. bis 12. Mai 2023 stattfindet\, ist eine bedeutende Veranstaltung\, bei der Fachleute aus dem Bereich der Wundversorgung und -forschung zusammenkommen\, um Wissen auszutauschen und neue Technologien und Behandlungen kennenzulernen. \nUnsere Teilnahme am DEWU Deutscher Wundkongress 2023 unterstreicht unser Engagement für die fortlaufende Verbesserung der Patientenversorgung und die Entwicklung innovativer Lösungen im Bereich der Wundbehandlung. Wir freuen uns darauf\, unsere Erfahrungen und Erkenntnisse mit Fachkollegen aus der Branche zu teilen und gleichzeitig von den neuesten Entwicklungen und Forschungsergebnissen zu profitieren. \nWir laden Sie herzlich ein\, uns während des Kongresses an unserem gemeinsamen Stand mit Chemomedica Medizintechnik und Arzneimittel Vertriebsges.m.b.H. zu besuchen. Dort haben Sie die Gelegenheit\, unsere neuesten Produkte und Lösungen kennenzulernen und sich mit unseren Experten über die aktuellen Herausforderungen und Chancen in der Wundversorgung auszutauschen. \nWir freuen uns auf Ihre Teilnahme und einen fruchtbaren Austausch beim DEWU Deutscher Wundkongress 2023 in Bremen. Bis dahin wünschen wir Ihnen viel Erfolg und freuen uns auf eine erfolgreiche Zusammenarbeit! \nProgramm\nProgrammMehr Informationen hier
URL:https://www.actimaris.com/event/dewu-deutscher-wundkongress-bremer-pflegekongress-2023/
LOCATION:Messe Bremen\, Findorffstraße 101\, Bremen\, 28215\, Deutschland
CATEGORIES:Wundkongress
ATTACH;FMTTYPE=image/png:https://www.actimaris.com/wp-content/uploads/2023/03/Bildschirmfoto-2023-03-22-um-09.21.16.png
ORGANIZER;CN="DEWU Deutscher Wundkongress":MAILTO:service@pflege-wundkongress.de
END:VEVENT
BEGIN:VEVENT
DTSTART;TZID=Europe/Zurich:20230503T093000
DTEND;TZID=Europe/Zurich:20230505T170000
DTSTAMP:20260423T180404
CREATED:20230203T192514Z
LAST-MODIFIED:20230216T130916Z
UID:10903-1683106200-1683306000@www.actimaris.com
SUMMARY:EWMA 2023
DESCRIPTION:ActiMaris® an EWMA 2023 \nTHE 33RD CONFERENCE OF THE EUROPEAN WOUND MANAGEMENT ASSOCIATION\nradio_button_uncheckedActiMaris AG freut sich\, am Wundkongress EWMA 2023 in Mailand\, Italien\, mit einem aktiven Beitrag teilzunehmen. Gerne teilen wir unsere neuesten Forschungsergebnisse mit interessierten Fachleuten\, welche nach neuen therapeutischen Möglichkeiten suchen. Unser Unternehmen hat sich zum Ziel gesetzt\, neue Wege zu finden\, um die Behandlung von chronischen Wunden zu verbessern. Wir sind überzeugt\, dass dieser Kongress eine wertvolle Gelegenheit ist\, unsere Ideen und Erkenntnisse mit der Fachwelt zu teilen. Sie können uns am Kongress an unserem Stand gerne besuchen. Wir freuen uns auf Sie. \n  \nProgramm\nProgrammMehr Informationen hier
URL:https://www.actimaris.com/event/ewma-2023/
LOCATION:MICo Milano Convention Center\, Piazzale Carlo Magno\, Milan\, 20149\, Italien
CATEGORIES:Wundkongress
ATTACH;FMTTYPE=image/png:https://www.actimaris.com/wp-content/uploads/2023/02/03_412723_EWMA_webbanner_1200x540px.png
END:VEVENT
BEGIN:VEVENT
DTSTART;TZID=Europe/Zurich:20230202T000000
DTEND;TZID=Europe/Zurich:20230204T000000
DTSTAMP:20260423T180404
CREATED:20230223T185922Z
LAST-MODIFIED:20230223T192438Z
UID:10985-1675296000-1675468800@www.actimaris.com
SUMMARY:Healing Hands Conference 2023
DESCRIPTION:ActiMaris® an Healing Hands Conference 2023\nComplex Wounds Event Kuwait\nradio_button_uncheckedActiMaris AG mit Distributor SwissTech International an Healing Hands Conference 2023 in Kuwait. \n  \n	\n		\n							\n								\n			\n	\n		\n							\n								\n			\n	\n		\n							\n								\n			\n	\n		\n			\n		\n	\n		\n	Programm\nMehr Informationen hier
URL:https://www.actimaris.com/event/healing-hands-conference-2023/
LOCATION:Jumeirah beach Hotel\, Messila ballroom\, Kuwait\, Kuwait
CATEGORIES:Wundkongress
ATTACH;FMTTYPE=image/png:https://www.actimaris.com/wp-content/uploads/2023/02/Bildschirmfoto-2023-02-23-um-20.11.12.png
END:VEVENT
BEGIN:VEVENT
DTSTART;TZID=Europe/Zurich:20210428T083000
DTEND;TZID=Europe/Zurich:20210430T173000
DTSTAMP:20260423T180404
CREATED:20210428T063000Z
LAST-MODIFIED:20201104T151118Z
UID:9581-1619598600-1619803800@www.actimaris.com
SUMMARY:3-Tages Jubiläums-Wundkongress
DESCRIPTION:ActiMaris® am „20 Jahre ZWM®-ZertifiziertesWundManagement“ \n3-Tages Jubiläums-Wundkongress\nradio_button_uncheckedAuf Basis der aktuellen COV-19 Entwicklung im deutschsprachigen Europa\, wurde der 35. Wundkongress verschoben  vom 21.-23.10.2020 auf den 28.-30.04.2021 \nProgramm\nMehr Informationen hier
URL:https://www.actimaris.com/event/3-tages-jubilaeums-wundkongress/
LOCATION:Hotel Wyndham in Salzburg\, Fanny-von-Lehnert-Straße 7\, Salzburg\, 5020\, Österreich
CATEGORIES:Wundkongress
ATTACH;FMTTYPE=image/jpeg:https://www.actimaris.com/wp-content/uploads/2020/09/Kongress_Programm_Salzburg_2020-1_Titelbild.jpg
END:VEVENT
BEGIN:VEVENT
DTSTART;TZID=Europe/Zurich:20200206T090000
DTEND;TZID=Europe/Zurich:20200206T163000
DTSTAMP:20260423T180404
CREATED:20200106T105901Z
LAST-MODIFIED:20200123T075558Z
UID:8935-1580979600-1581006600@www.actimaris.com
SUMMARY:15. Wound Specialist Day
DESCRIPTION:gd medical ag am 15. Wound Specialist Day\nradio_button_uncheckedAm 6. Februar 2020 findet im Universitäts Spital Zürich der 15. Wound Specialist Day statt.\nEs freut uns\, dass unser Händler gd medical ag an diesen Anlass teilnehmen wird. \nProgramm anschauen
URL:https://www.actimaris.com/event/15-wound-specialist-day/
LOCATION:Universitätsspital Zürich\, Frauenklinikstrasse 10\, Zürich\, Zürich\, 8091\, Schweiz
CATEGORIES:Wound Specialist Day
ATTACH;FMTTYPE=image/jpeg:https://www.actimaris.com/wp-content/uploads/2020/01/titelbild_atypische_wunden.jpeg__6000x4000_q85_subsampling-2-scaled.jpg
END:VEVENT
BEGIN:VEVENT
DTSTART;TZID=Europe/Zurich:20200124T100000
DTEND;TZID=Europe/Zurich:20200124T173000
DTSTAMP:20260423T180404
CREATED:20200106T101551Z
LAST-MODIFIED:20200123T075558Z
UID:8922-1579860000-1579887000@www.actimaris.com
SUMMARY:Swiss Intermediate Care Symposium
DESCRIPTION:gd medical ag am 1. Swiss Intermediate Care Symposium\nradio_button_uncheckedAm 24. Januar 2020 findet im Inselspital in Bern das 1. Swiss Intermediate Care Symposium statt.\nEs freut uns\, dass unser Händler gd medical ag an diesen Anlass teilnehmen wird. \nDas Hauptthema des interdisziplinären wie interprofessionellen Symposiums lautet:\n„ IMC – eine zukunftsorietierte Abteilung “\nPassend zum Motto finden die Plenarsitzungen interdisziplinär statt und behandeln konkrete Themen aus unserem beruflichen Alltag: Delir\, der geriatrische Patient\, ethische Aspekte sowie Antikoagulation. Parallel dazu werden Hands-on Workshops über nicht invasive Beatmung und Trachealkanülen\, EKG\, Schmerztherapie und Delir sowie ein BLS Refresher Kurs angeboten. \nProgramm anschauen
URL:https://www.actimaris.com/event/swiss-intermediate-care-symposium/
LOCATION:Inselspital Bern\, Freiburgstrasse 15a\, Bern\, Bern\, 9010\, Schweiz
CATEGORIES:Symposium
ATTACH;FMTTYPE=image/jpeg:https://www.actimaris.com/wp-content/uploads/2020/04/IMICSY20_HomepageBanner_04_DE.jpg
ORGANIZER;CN="IMK":MAILTO:congress@imk.ch
END:VEVENT
END:VCALENDAR